BEGIN:VCALENDAR
VERSION:2.0
PRODID:-//Islamic Society of Markham - ECPv6.9.1//NONSGML v1.0//EN
CALSCALE:GREGORIAN
METHOD:PUBLISH
X-WR-CALNAME:Islamic Society of Markham
X-ORIGINAL-URL:https://markhammasjid.ca
X-WR-CALDESC:Events for Islamic Society of Markham
REFRESH-INTERVAL;VALUE=DURATION:PT1H
X-Robots-Tag:noindex
X-PUBLISHED-TTL:PT1H
BEGIN:VTIMEZONE
TZID:America/Toronto
BEGIN:DAYLIGHT
TZOFFSETFROM:-0500
TZOFFSETTO:-0400
TZNAME:EDT
DTSTART:20240310T070000
END:DAYLIGHT
BEGIN:STANDARD
TZOFFSETFROM:-0400
TZOFFSETTO:-0500
TZNAME:EST
DTSTART:20241103T060000
END:STANDARD
END:VTIMEZONE
BEGIN:VEVENT
DTSTART;TZID=America/Toronto:20241201T133000
DTEND;TZID=America/Toronto:20241201T150000
DTSTAMP:20260424T144009
CREATED:20241119T080638Z
LAST-MODIFIED:20241119T080659Z
UID:708602-1733059800-1733065200@markhammasjid.ca
SUMMARY:Event: Parents Conferences
DESCRIPTION:PARENT’S CONFERENCE \nAddressing Modern Social Challenges for Kids \nPresenter: Faisal Azeem \nThe conference will introduce the challenges faced by Muslim kids in modern school curriculum\, highlight the importance of understanding and suggesting strategies to handle this challenge. \nSunday\, December 1\, 2024\n1:30 pm – 3:00 pm after Zuhr.\nRegistration required\nRefreshments will be served.
URL:https://markhammasjid.ca/event/event-parents-conferences/
LOCATION:Islamic Society of Markham
CATEGORIES:General
ATTACH;FMTTYPE=image/jpeg:https://markhammasjid.ca/wp-content/uploads/2024/11/WhatsApp-Image-2024-11-18-at-11.22.36-PM.jpeg
END:VEVENT
BEGIN:VEVENT
DTSTART;TZID=America/Toronto:20241220T193000
DTEND;TZID=America/Toronto:20241220T203000
DTSTAMP:20260424T144009
CREATED:20241218T001157Z
LAST-MODIFIED:20241218T001204Z
UID:708641-1734723000-1734726600@markhammasjid.ca
SUMMARY:Event: Hajj Platform
DESCRIPTION:
URL:https://markhammasjid.ca/event/event-hajj-platform/
LOCATION:Islamic Society of Markham
CATEGORIES:General
ATTACH;FMTTYPE=image/jpeg:https://markhammasjid.ca/wp-content/uploads/2024/12/WhatsApp-Image-2024-12-16-at-9.40.59-PM.jpeg
END:VEVENT
BEGIN:VEVENT
DTSTART;TZID=America/Toronto:20241228T133000
DTEND;TZID=America/Toronto:20241228T153000
DTSTAMP:20260424T144009
CREATED:20241204T223618Z
LAST-MODIFIED:20241223T202344Z
UID:708638-1735392600-1735399800@markhammasjid.ca
SUMMARY:Event: Woodworking Workshop with Kids
DESCRIPTION:
URL:https://markhammasjid.ca/event/event-woodworking-workshop-with-kids/
LOCATION:Islamic Society of Markham
CATEGORIES:General,Youth
ATTACH;FMTTYPE=image/jpeg:https://markhammasjid.ca/wp-content/uploads/2024/12/Woodwork-with-Kids.jpg
END:VEVENT
END:VCALENDAR