BEGIN:VCALENDAR
VERSION:2.0
PRODID:-//Islamic Society of Markham - ECPv6.9.1//NONSGML v1.0//EN
CALSCALE:GREGORIAN
METHOD:PUBLISH
X-WR-CALNAME:Islamic Society of Markham
X-ORIGINAL-URL:https://markhammasjid.ca
X-WR-CALDESC:Events for Islamic Society of Markham
REFRESH-INTERVAL;VALUE=DURATION:PT1H
X-Robots-Tag:noindex
X-PUBLISHED-TTL:PT1H
BEGIN:VTIMEZONE
TZID:America/Toronto
BEGIN:DAYLIGHT
TZOFFSETFROM:-0500
TZOFFSETTO:-0400
TZNAME:EDT
DTSTART:20250309T070000
END:DAYLIGHT
BEGIN:STANDARD
TZOFFSETFROM:-0400
TZOFFSETTO:-0500
TZNAME:EST
DTSTART:20251102T060000
END:STANDARD
END:VTIMEZONE
BEGIN:VEVENT
DTSTART;TZID=America/Toronto:20250217T163000
DTEND;TZID=America/Toronto:20250217T193000
DTSTAMP:20260424T120354
CREATED:20250213T234500Z
LAST-MODIFIED:20250213T234500Z
UID:708726-1739809800-1739820600@markhammasjid.ca
SUMMARY:Event: Family Day Dinner
DESCRIPTION:
URL:https://markhammasjid.ca/event/event-family-day-dinner/
LOCATION:Islamic Society of Markham
CATEGORIES:General
ATTACH;FMTTYPE=image/jpeg:https://markhammasjid.ca/wp-content/uploads/2025/02/Family-Day-Dinner-.jpg
END:VEVENT
BEGIN:VEVENT
DTSTART;TZID=America/Toronto:20250222T100000
DTEND;TZID=America/Toronto:20250222T120000
DTSTAMP:20260424T120354
CREATED:20241204T223416Z
LAST-MODIFIED:20250118T001203Z
UID:708635-1740218400-1740225600@markhammasjid.ca
SUMMARY:Event: Winter Soccer
DESCRIPTION:
URL:https://markhammasjid.ca/event/event-winter-soccer/
LOCATION:Islamic Society of Markham
CATEGORIES:General,Youth
ATTACH;FMTTYPE=image/jpeg:https://markhammasjid.ca/wp-content/uploads/2024/12/Winter-Soccer.jpg
END:VEVENT
BEGIN:VEVENT
DTSTART;TZID=America/Toronto:20250228T200000
DTEND;TZID=America/Toronto:20250228T223000
DTSTAMP:20260424T120354
CREATED:20250228T224309Z
LAST-MODIFIED:20250228T224309Z
UID:708784-1740772800-1740781800@markhammasjid.ca
SUMMARY:Ramadhan Moon Sighting Confirmation – 1446/2025
DESCRIPTION:
URL:https://markhammasjid.ca/event/ramadhan-moon-sighting-confirmation-1446-2025/
LOCATION:Islamic Society of Markham
CATEGORIES:General
ATTACH;FMTTYPE=application/pdf:https://markhammasjid.ca/wp-content/uploads/2025/02/Ramadhan-Moon-Sighting-Confirmation-–-2025.pdf
END:VEVENT
END:VCALENDAR