BEGIN:VCALENDAR
VERSION:2.0
PRODID:-//Islamic Society of Markham - ECPv6.9.1//NONSGML v1.0//EN
CALSCALE:GREGORIAN
METHOD:PUBLISH
X-WR-CALNAME:Islamic Society of Markham
X-ORIGINAL-URL:https://markhammasjid.ca
X-WR-CALDESC:Events for Islamic Society of Markham
REFRESH-INTERVAL;VALUE=DURATION:PT1H
X-Robots-Tag:noindex
X-PUBLISHED-TTL:PT1H
BEGIN:VTIMEZONE
TZID:America/Toronto
BEGIN:DAYLIGHT
TZOFFSETFROM:-0500
TZOFFSETTO:-0400
TZNAME:EDT
DTSTART:20250309T070000
END:DAYLIGHT
BEGIN:STANDARD
TZOFFSETFROM:-0400
TZOFFSETTO:-0500
TZNAME:EST
DTSTART:20251102T060000
END:STANDARD
END:VTIMEZONE
BEGIN:VEVENT
DTSTART;TZID=America/Toronto:20250502T170000
DTEND;TZID=America/Toronto:20250502T183000
DTSTAMP:20260424T061921
CREATED:20250418T011603Z
LAST-MODIFIED:20250418T011603Z
UID:708855-1746205200-1746210600@markhammasjid.ca
SUMMARY:Event: Muhsen In-Person Volunteer Training
DESCRIPTION:🌟 Join us for a transformative opportunity! 🌟 \nMUHSEN is coming to Islamic Society of Markham for Volunteer and Respite Training! Learn how you can make a meaningful difference in your community. \n📅 Date: Friday\, May 2nd\n⏰ Time: 5:00 PM – 6:30 PM\n📍 Location: 2900 Denison St Markham\, ON L3S 4J8 Canada \n💡 This training is perfect for anyone looking to volunteer or get involved in supporting individuals with disabilities and their families. \n👉 Register now: http://tinyurl.com/ISMVolTraining \nLet’s make our communities more inclusive and compassionate together! 💖
URL:https://markhammasjid.ca/event/event-muhsen-in-person-volunteer-training/
LOCATION:Islamic Society of Markham
CATEGORIES:General
ATTACH;FMTTYPE=image/jpeg:https://markhammasjid.ca/wp-content/uploads/2025/04/WhatsApp-Image-2025-04-16-at-12.08.23-PM.jpeg
END:VEVENT
BEGIN:VEVENT
DTSTART;TZID=America/Toronto:20250505T203000
DTEND;TZID=America/Toronto:20250505T213000
DTSTAMP:20260424T061921
CREATED:20250429T042136Z
LAST-MODIFIED:20250429T042337Z
UID:708875-1746477000-1746480600@markhammasjid.ca
SUMMARY:Hajj Seminar 2025
DESCRIPTION:Embark on the Journey of a Lifetime – Join Our Hajj Seminar \nThe Islamic Society of Markham invites you to a two-part Hajj Seminar designed to guide you through the sacred pilgrimage with clarity and confidence. \nThis free seminar will cover essential legal rulings\, spiritual insights\, and practical advice to help you prepare for the transformative experience of Hajj. \nDetails \nSession 1: Monday\, May 5 \nSession 2: Monday\, May 12 \nTime: Right after Maghrib \nSpeaker: Sheikh Maaz Ibrahim \nLocation: ISM Gym\, 2900 Denison Street\, Markham\, Ontario \nOpen to all—whether you’re planning to perform Hajj this year or in the future\, or simply wish to learn more about this important pillar of Islam.
URL:https://markhammasjid.ca/event/hajj-seminar-2025/
LOCATION:Islamic Society of Markham
CATEGORIES:General
ATTACH;FMTTYPE=image/jpeg:https://markhammasjid.ca/wp-content/uploads/2025/04/WhatsApp-Image-2025-04-25-at-11.37.44-PM.jpeg
END:VEVENT
BEGIN:VEVENT
DTSTART;TZID=America/Toronto:20250511T183000
DTEND;TZID=America/Toronto:20250511T200000
DTSTAMP:20260424T061921
CREATED:20250425T050213Z
LAST-MODIFIED:20250425T220430Z
UID:708868-1746988200-1746993600@markhammasjid.ca
SUMMARY:ISM Education Information Night
DESCRIPTION:  \nISM Education Information NightJoin us for an information session to learn more about ISM Education Programs. \nDate: Sunday\, May 11\, 2025Time: Between Asr & MaghrebLocation: ISM Gym\, 2900 Denison Street\, Markham\, OntarioDinner will be servedFree Event – Registration is Mandatory \nRegister here: https://form.jotform.com/251098381302251 \nWe look forward to welcoming you.
URL:https://markhammasjid.ca/event/ism-education-information-night/
LOCATION:Islamic Society of Markham
CATEGORIES:General
ATTACH;FMTTYPE=image/jpeg:https://markhammasjid.ca/wp-content/uploads/2025/04/WhatsApp-Image-2025-04-25-at-12.06.07-AM.jpeg
END:VEVENT
BEGIN:VEVENT
DTSTART;TZID=America/Toronto:20250516T123000
DTEND;TZID=America/Toronto:20250516T163000
DTSTAMP:20260424T061921
CREATED:20250511T000731Z
LAST-MODIFIED:20250511T000954Z
UID:708904-1747398600-1747413000@markhammasjid.ca
SUMMARY:Annual Qurbani Day
DESCRIPTION:Join Us for the Annual Qurbani Day! \nThe Islamic Society of Markham invites you to \nAnnual Qurbani Day \nCome meet and support trusted charitable organizations including HCI\, NZF\, IDRF\, Sakeenah Homes\, Islamic Relief Canada\, and many more. Learn how your Qurbani can make a global impact! \nLocation: 2900 Denison Street\, MarkhamDate: Friday\, May 16thTime: 12:30 PM to 4:30 PM \nFor more information\, contact us at info@MarkhamMasjid.ca.📞 905-294-7866 | 🌐 MarkhamMasjid.ca
URL:https://markhammasjid.ca/event/annual-qurbani-day/
CATEGORIES:General
ATTACH;FMTTYPE=image/jpeg:https://markhammasjid.ca/wp-content/uploads/2025/05/WhatsApp-Image-2025-05-10-at-11.49.14-AM.jpeg
END:VEVENT
BEGIN:VEVENT
DTSTART;TZID=America/Toronto:20250521T180000
DTEND;TZID=America/Toronto:20250521T200000
DTSTAMP:20260424T061921
CREATED:20250501T023659Z
LAST-MODIFIED:20250501T023659Z
UID:708884-1747850400-1747857600@markhammasjid.ca
SUMMARY:YRP Recruitment Drive at ISM
DESCRIPTION:Join Us for the York Regional Police Recruitment Drive at ISM \nThe Islamic Society of Markham is pleased to host a special Recruitment Drive with York Regional Police (YRP). This is an excellent opportunity to learn about career pathways in law enforcement and speak directly with officers from YRP’s Uniform Recruiting Unit\, who will be present to answer your questions and guide you through the recruitment process. \nDate: Wednesday\, May 21\, 2025Time: 6:00 PM – 8:00 PMLocation: Islamic Society of Markham\, 2900 Denison Street\, Markham\, ON \nPre-registration is required.Please register here: https://form.jotform.com/251099249774268 \nWe encourage community members\, especially youth and those exploring public service careers\, to take advantage of this informative event.
URL:https://markhammasjid.ca/event/yrp-recruitment-drive-at-ism/
LOCATION:Islamic Society of Markham
CATEGORIES:General,Youth
ATTACH;FMTTYPE=image/jpeg:https://markhammasjid.ca/wp-content/uploads/2025/04/WhatsApp-Image-2025-04-29-at-2.39.46-PM.jpeg
END:VEVENT
END:VCALENDAR