BEGIN:VCALENDAR
VERSION:2.0
PRODID:-//Islamic Society of Markham - ECPv6.9.1//NONSGML v1.0//EN
CALSCALE:GREGORIAN
METHOD:PUBLISH
X-ORIGINAL-URL:https://markhammasjid.ca
X-WR-CALDESC:Events for Islamic Society of Markham
REFRESH-INTERVAL;VALUE=DURATION:PT1H
X-Robots-Tag:noindex
X-PUBLISHED-TTL:PT1H
BEGIN:VTIMEZONE
TZID:America/Toronto
BEGIN:DAYLIGHT
TZOFFSETFROM:-0500
TZOFFSETTO:-0400
TZNAME:EDT
DTSTART:20250309T070000
END:DAYLIGHT
BEGIN:STANDARD
TZOFFSETFROM:-0400
TZOFFSETTO:-0500
TZNAME:EST
DTSTART:20251102T060000
END:STANDARD
END:VTIMEZONE
BEGIN:VEVENT
DTSTART;TZID=America/Toronto:20250125T173000
DTEND;TZID=America/Toronto:20250125T190000
DTSTAMP:20260424T144211
CREATED:20250109T012417Z
LAST-MODIFIED:20250118T001137Z
UID:708676-1737826200-1737831600@markhammasjid.ca
SUMMARY:Event: Disability Awareness
DESCRIPTION:Join Us for a Disability Awareness Talk \nThe Islamic Society of Markham\, in partnership with MUHSEN\, invites you to a free community awareness talk aimed at fostering inclusivity and understanding for persons with disabilities. \n📅 Date: Saturday\, January 25\, 2025\n⏰ Time: 5:30 PM (After Maghreb)\n📍 Location: Islamic Society of Markham\, 2900 Denison Street\, Markham\, ON \nRefreshments included. Open to all!\nRegister Here\nhttps://form.jotform.com/250044552486254 \nLet’s work together to create a more inclusive community!
URL:https://markhammasjid.ca/event/event-disability-awareness/
LOCATION:Islamic Society of Markham
CATEGORIES:General
ATTACH;FMTTYPE=image/jpeg:https://markhammasjid.ca/wp-content/uploads/2025/01/Disability-Awareness-Event-1.jpg
END:VEVENT
END:VCALENDAR