BEGIN:VCALENDAR
VERSION:2.0
PRODID:-//Islamic Society of Markham - ECPv6.9.1//NONSGML v1.0//EN
CALSCALE:GREGORIAN
METHOD:PUBLISH
X-WR-CALNAME:Islamic Society of Markham
X-ORIGINAL-URL:https://markhammasjid.ca
X-WR-CALDESC:Events for Islamic Society of Markham
REFRESH-INTERVAL;VALUE=DURATION:PT1H
X-Robots-Tag:noindex
X-PUBLISHED-TTL:PT1H
BEGIN:VTIMEZONE
TZID:America/Toronto
BEGIN:DAYLIGHT
TZOFFSETFROM:-0500
TZOFFSETTO:-0400
TZNAME:EDT
DTSTART:20250309T070000
END:DAYLIGHT
BEGIN:STANDARD
TZOFFSETFROM:-0400
TZOFFSETTO:-0500
TZNAME:EST
DTSTART:20251102T060000
END:STANDARD
END:VTIMEZONE
BEGIN:VEVENT
DTSTART;TZID=America/Toronto:20250301T080000
DTEND;TZID=America/Toronto:20250301T170000
DTSTAMP:20260424T103819
CREATED:20250211T191349Z
LAST-MODIFIED:20250226T230444Z
UID:708717-1740816000-1740848400@markhammasjid.ca
SUMMARY:Important ISM Ramadhan Announcement
DESCRIPTION:
URL:https://markhammasjid.ca/event/important-ism-ramadhan-announcement/
LOCATION:Islamic Society of Markham
CATEGORIES:General
ATTACH;FMTTYPE=image/jpeg:https://markhammasjid.ca/wp-content/uploads/2025/02/Important-ISM-Ramadhan-Announcement-2025-02-26.jpg
END:VEVENT
BEGIN:VEVENT
DTSTART;TZID=America/Toronto:20250301T133000
DTEND;TZID=America/Toronto:20250301T143000
DTSTAMP:20260424T103819
CREATED:20250213T182515Z
LAST-MODIFIED:20250213T182515Z
UID:708720-1740835800-1740839400@markhammasjid.ca
SUMMARY:Event: Ramadan Connect 2025
DESCRIPTION:
URL:https://markhammasjid.ca/event/event-ramadan-connect-2025/
LOCATION:Islamic Society of Markham
CATEGORIES:General
ATTACH;FMTTYPE=image/jpeg:https://markhammasjid.ca/wp-content/uploads/2025/02/Ramadan-Connect-2025.jpg
END:VEVENT
END:VCALENDAR