BEGIN:VCALENDAR
VERSION:2.0
PRODID:-//Islamic Society of Markham - ECPv6.9.1//NONSGML v1.0//EN
CALSCALE:GREGORIAN
METHOD:PUBLISH
X-ORIGINAL-URL:https://markhammasjid.ca
X-WR-CALDESC:Events for Islamic Society of Markham
REFRESH-INTERVAL;VALUE=DURATION:PT1H
X-Robots-Tag:noindex
X-PUBLISHED-TTL:PT1H
BEGIN:VTIMEZONE
TZID:America/Toronto
BEGIN:DAYLIGHT
TZOFFSETFROM:-0500
TZOFFSETTO:-0400
TZNAME:EDT
DTSTART:20250309T070000
END:DAYLIGHT
BEGIN:STANDARD
TZOFFSETFROM:-0400
TZOFFSETTO:-0500
TZNAME:EST
DTSTART:20251102T060000
END:STANDARD
END:VTIMEZONE
BEGIN:VEVENT
DTSTART;TZID=America/Toronto:20250505T203000
DTEND;TZID=America/Toronto:20250505T213000
DTSTAMP:20260424T075432
CREATED:20250429T042136Z
LAST-MODIFIED:20250429T042337Z
UID:708875-1746477000-1746480600@markhammasjid.ca
SUMMARY:Hajj Seminar 2025
DESCRIPTION:Embark on the Journey of a Lifetime – Join Our Hajj Seminar \nThe Islamic Society of Markham invites you to a two-part Hajj Seminar designed to guide you through the sacred pilgrimage with clarity and confidence. \nThis free seminar will cover essential legal rulings\, spiritual insights\, and practical advice to help you prepare for the transformative experience of Hajj. \nDetails \nSession 1: Monday\, May 5 \nSession 2: Monday\, May 12 \nTime: Right after Maghrib \nSpeaker: Sheikh Maaz Ibrahim \nLocation: ISM Gym\, 2900 Denison Street\, Markham\, Ontario \nOpen to all—whether you’re planning to perform Hajj this year or in the future\, or simply wish to learn more about this important pillar of Islam.
URL:https://markhammasjid.ca/event/hajj-seminar-2025/
LOCATION:Islamic Society of Markham
CATEGORIES:General
ATTACH;FMTTYPE=image/jpeg:https://markhammasjid.ca/wp-content/uploads/2025/04/WhatsApp-Image-2025-04-25-at-11.37.44-PM.jpeg
END:VEVENT
END:VCALENDAR