BEGIN:VCALENDAR
VERSION:2.0
PRODID:-//Islamic Society of Markham - ECPv6.9.1//NONSGML v1.0//EN
CALSCALE:GREGORIAN
METHOD:PUBLISH
X-ORIGINAL-URL:https://markhammasjid.ca
X-WR-CALDESC:Events for Islamic Society of Markham
REFRESH-INTERVAL;VALUE=DURATION:PT1H
X-Robots-Tag:noindex
X-PUBLISHED-TTL:PT1H
BEGIN:VTIMEZONE
TZID:America/Toronto
BEGIN:DAYLIGHT
TZOFFSETFROM:-0500
TZOFFSETTO:-0400
TZNAME:EDT
DTSTART:20250309T070000
END:DAYLIGHT
BEGIN:STANDARD
TZOFFSETFROM:-0400
TZOFFSETTO:-0500
TZNAME:EST
DTSTART:20251102T060000
END:STANDARD
END:VTIMEZONE
BEGIN:VEVENT
DTSTART;TZID=America/Toronto:20250516T123000
DTEND;TZID=America/Toronto:20250516T163000
DTSTAMP:20260424T075430
CREATED:20250511T000731Z
LAST-MODIFIED:20250511T000954Z
UID:708904-1747398600-1747413000@markhammasjid.ca
SUMMARY:Annual Qurbani Day
DESCRIPTION:Join Us for the Annual Qurbani Day! \nThe Islamic Society of Markham invites you to \nAnnual Qurbani Day \nCome meet and support trusted charitable organizations including HCI\, NZF\, IDRF\, Sakeenah Homes\, Islamic Relief Canada\, and many more. Learn how your Qurbani can make a global impact! \nLocation: 2900 Denison Street\, MarkhamDate: Friday\, May 16thTime: 12:30 PM to 4:30 PM \nFor more information\, contact us at info@MarkhamMasjid.ca.📞 905-294-7866 | 🌐 MarkhamMasjid.ca
URL:https://markhammasjid.ca/event/annual-qurbani-day/
CATEGORIES:General
ATTACH;FMTTYPE=image/jpeg:https://markhammasjid.ca/wp-content/uploads/2025/05/WhatsApp-Image-2025-05-10-at-11.49.14-AM.jpeg
END:VEVENT
END:VCALENDAR