BEGIN:VCALENDAR
VERSION:2.0
PRODID:-//Islamic Society of Markham - ECPv6.9.1//NONSGML v1.0//EN
CALSCALE:GREGORIAN
METHOD:PUBLISH
X-ORIGINAL-URL:https://markhammasjid.ca
X-WR-CALDESC:Events for Islamic Society of Markham
REFRESH-INTERVAL;VALUE=DURATION:PT1H
X-Robots-Tag:noindex
X-PUBLISHED-TTL:PT1H
BEGIN:VTIMEZONE
TZID:America/Toronto
BEGIN:DAYLIGHT
TZOFFSETFROM:-0500
TZOFFSETTO:-0400
TZNAME:EDT
DTSTART:20240310T070000
END:DAYLIGHT
BEGIN:STANDARD
TZOFFSETFROM:-0400
TZOFFSETTO:-0500
TZNAME:EST
DTSTART:20241103T060000
END:STANDARD
END:VTIMEZONE
BEGIN:VEVENT
DTSTART;TZID=America/Toronto:20241004T190000
DTEND;TZID=America/Toronto:20241004T200000
DTSTAMP:20260421T105928
CREATED:20240927T223125Z
LAST-MODIFIED:20240927T223247Z
UID:708546-1728068400-1728072000@markhammasjid.ca
SUMMARY:Sisters: Calligraphy Class
DESCRIPTION:Unleash Your Creative Side with Sister’s Calligraphy Classes! \nAre you interested in learning the beautiful art of Islamic calligraphy? Join us for an enriching and hands-on experience starting October 4\, 2024. \n📜 Details: \nDuration: 8 sessions\, every Friday\nTime: 7:00 PM – 8:00 PM\nWho Can Join: Sisters ages 15+\nClass Size: Limited for a personalized experience\nCost: $50 per person (Certificate awarded upon completion)\nWhether you’re a beginner or looking to refine your skills\, this course is for you. \n💌 How to Register:\nScan the QR code or use the link below!
URL:https://markhammasjid.ca/event/sisters-calligraphy-class/
LOCATION:Islamic Society of Markham
CATEGORIES:Ladies
ATTACH;FMTTYPE=image/jpeg:https://markhammasjid.ca/wp-content/uploads/2024/09/Sisters-Calligraphy.jpeg
END:VEVENT
BEGIN:VEVENT
DTSTART;TZID=America/Toronto:20241004T190000
DTEND;TZID=America/Toronto:20241004T200000
DTSTAMP:20260421T105928
CREATED:20240927T223125Z
LAST-MODIFIED:20240927T223247Z
UID:708546-1728068400-1728072000@markhammasjid.ca
SUMMARY:Sisters: Calligraphy Class
DESCRIPTION:Unleash Your Creative Side with Sister’s Calligraphy Classes! \nAre you interested in learning the beautiful art of Islamic calligraphy? Join us for an enriching and hands-on experience starting October 4\, 2024. \n📜 Details: \nDuration: 8 sessions\, every Friday\nTime: 7:00 PM – 8:00 PM\nWho Can Join: Sisters ages 15+\nClass Size: Limited for a personalized experience\nCost: $50 per person (Certificate awarded upon completion)\nWhether you’re a beginner or looking to refine your skills\, this course is for you. \n💌 How to Register:\nScan the QR code or use the link below!
URL:https://markhammasjid.ca/event/sisters-calligraphy-class/
LOCATION:Islamic Society of Markham
CATEGORIES:Ladies
ATTACH;FMTTYPE=image/jpeg:https://markhammasjid.ca/wp-content/uploads/2024/09/Sisters-Calligraphy.jpeg
END:VEVENT
BEGIN:VEVENT
DTSTART;TZID=America/Toronto:20241004T190000
DTEND;TZID=America/Toronto:20241004T200000
DTSTAMP:20260421T105928
CREATED:20240927T223125Z
LAST-MODIFIED:20240927T223247Z
UID:708546-1728068400-1728072000@markhammasjid.ca
SUMMARY:Sisters: Calligraphy Class
DESCRIPTION:Unleash Your Creative Side with Sister’s Calligraphy Classes! \nAre you interested in learning the beautiful art of Islamic calligraphy? Join us for an enriching and hands-on experience starting October 4\, 2024. \n📜 Details: \nDuration: 8 sessions\, every Friday\nTime: 7:00 PM – 8:00 PM\nWho Can Join: Sisters ages 15+\nClass Size: Limited for a personalized experience\nCost: $50 per person (Certificate awarded upon completion)\nWhether you’re a beginner or looking to refine your skills\, this course is for you. \n💌 How to Register:\nScan the QR code or use the link below!
URL:https://markhammasjid.ca/event/sisters-calligraphy-class/
LOCATION:Islamic Society of Markham
CATEGORIES:Ladies
ATTACH;FMTTYPE=image/jpeg:https://markhammasjid.ca/wp-content/uploads/2024/09/Sisters-Calligraphy.jpeg
END:VEVENT
BEGIN:VEVENT
DTSTART;TZID=America/Toronto:20241004T190000
DTEND;TZID=America/Toronto:20241004T200000
DTSTAMP:20260421T105928
CREATED:20240927T223125Z
LAST-MODIFIED:20240927T223247Z
UID:708546-1728068400-1728072000@markhammasjid.ca
SUMMARY:Sisters: Calligraphy Class
DESCRIPTION:Unleash Your Creative Side with Sister’s Calligraphy Classes! \nAre you interested in learning the beautiful art of Islamic calligraphy? Join us for an enriching and hands-on experience starting October 4\, 2024. \n📜 Details: \nDuration: 8 sessions\, every Friday\nTime: 7:00 PM – 8:00 PM\nWho Can Join: Sisters ages 15+\nClass Size: Limited for a personalized experience\nCost: $50 per person (Certificate awarded upon completion)\nWhether you’re a beginner or looking to refine your skills\, this course is for you. \n💌 How to Register:\nScan the QR code or use the link below!
URL:https://markhammasjid.ca/event/sisters-calligraphy-class/
LOCATION:Islamic Society of Markham
CATEGORIES:Ladies
ATTACH;FMTTYPE=image/jpeg:https://markhammasjid.ca/wp-content/uploads/2024/09/Sisters-Calligraphy.jpeg
END:VEVENT
END:VCALENDAR