BEGIN:VCALENDAR
VERSION:2.0
PRODID:-//Islamic Society of Markham - ECPv6.9.1//NONSGML v1.0//EN
CALSCALE:GREGORIAN
METHOD:PUBLISH
X-WR-CALNAME:Islamic Society of Markham
X-ORIGINAL-URL:https://markhammasjid.ca
X-WR-CALDESC:Events for Islamic Society of Markham
REFRESH-INTERVAL;VALUE=DURATION:PT1H
X-Robots-Tag:noindex
X-PUBLISHED-TTL:PT1H
BEGIN:VTIMEZONE
TZID:America/Toronto
BEGIN:DAYLIGHT
TZOFFSETFROM:-0500
TZOFFSETTO:-0400
TZNAME:EDT
DTSTART:20240310T070000
END:DAYLIGHT
BEGIN:STANDARD
TZOFFSETFROM:-0400
TZOFFSETTO:-0500
TZNAME:EST
DTSTART:20241103T060000
END:STANDARD
END:VTIMEZONE
BEGIN:VEVENT
DTSTART;TZID=America/Toronto:20241205T093000
DTEND;TZID=America/Toronto:20241205T103000
DTSTAMP:20260421T093754
CREATED:20241119T081535Z
LAST-MODIFIED:20241119T081535Z
UID:708605-1733391000-1733394600@markhammasjid.ca
SUMMARY:EVENT: Unlock Your Best Shape at Sister's Fitness!
DESCRIPTION:
URL:https://markhammasjid.ca/event/event-unlock-your-best-shape-at-sisters-fitness/
LOCATION:Islamic Society of Markham
CATEGORIES:Ladies
ATTACH;FMTTYPE=image/jpeg:https://markhammasjid.ca/wp-content/uploads/2024/11/WhatsApp-Image-2024-11-19-at-6.05.56-AM.jpeg
END:VEVENT
BEGIN:VEVENT
DTSTART;TZID=America/Toronto:20241219T090000
DTEND;TZID=America/Toronto:20241219T110000
DTSTAMP:20260421T093754
CREATED:20241202T171240Z
LAST-MODIFIED:20241218T001242Z
UID:708622-1734598800-1734606000@markhammasjid.ca
SUMMARY:Event: Sisters Walk&Talk Breakfast
DESCRIPTION:Sisters Walk&Talk breakfast.\nDay : Thursday Dec 19\nTime: 9.00AM to 11AM\nPrice:$ 10\nReserve your spot by Etransfer\nPay@markhammasjid.ca\nIn message write payment for Walk&talk
URL:https://markhammasjid.ca/event/evemt-sisters-walktalk-breakfast/
LOCATION:Islamic Society of Markham
CATEGORIES:Ladies
ATTACH;FMTTYPE=image/jpeg:https://markhammasjid.ca/wp-content/uploads/2024/12/WhatsApp-Image-2024-12-02-at-9.23.41-AM.jpeg
END:VEVENT
END:VCALENDAR