BEGIN:VCALENDAR
VERSION:2.0
PRODID:-//Islamic Society of Markham - ECPv6.9.1//NONSGML v1.0//EN
CALSCALE:GREGORIAN
METHOD:PUBLISH
X-WR-CALNAME:Islamic Society of Markham
X-ORIGINAL-URL:https://markhammasjid.ca
X-WR-CALDESC:Events for Islamic Society of Markham
REFRESH-INTERVAL;VALUE=DURATION:PT1H
X-Robots-Tag:noindex
X-PUBLISHED-TTL:PT1H
BEGIN:VTIMEZONE
TZID:America/Toronto
BEGIN:DAYLIGHT
TZOFFSETFROM:-0500
TZOFFSETTO:-0400
TZNAME:EDT
DTSTART:20250309T070000
END:DAYLIGHT
BEGIN:STANDARD
TZOFFSETFROM:-0400
TZOFFSETTO:-0500
TZNAME:EST
DTSTART:20251102T060000
END:STANDARD
END:VTIMEZONE
BEGIN:VEVENT
DTSTART;TZID=America/Toronto:20250610T160000
DTEND;TZID=America/Toronto:20250610T200000
DTSTAMP:20260420T223224
CREATED:20250601T212249Z
LAST-MODIFIED:20250609T222823Z
UID:708945-1749571200-1749585600@markhammasjid.ca
SUMMARY:Sisters Auto Mechanic Workshop
DESCRIPTION:**Join us for a hands on workshop where you will learn the basic maintenance of your vehicle* \n\n *Led by* : Rob Caswell\n *Date* : Tues- June 10\, 2025\n *Time* : 4 pm – 8 pm\n *Location* : Lester B Pearson Collegiate Institute\n *Age:* Sisters 18+\n\nThere are limited spots\, so please register as soon as possible.\n\n *Light dinner will be provided*\n\n *For inquiries* : sisters@markhammasjid.ca
URL:https://markhammasjid.ca/event/sisters-auto-mechanic-workshop/
CATEGORIES:Ladies
ATTACH;FMTTYPE=image/jpeg:https://markhammasjid.ca/wp-content/uploads/2025/06/WhatsApp-Image-2025-06-01-at-1.39.24-PM.jpeg
END:VEVENT
END:VCALENDAR