BEGIN:VCALENDAR
VERSION:2.0
PRODID:-//Islamic Society of Markham - ECPv6.9.1//NONSGML v1.0//EN
CALSCALE:GREGORIAN
METHOD:PUBLISH
X-WR-CALNAME:Islamic Society of Markham
X-ORIGINAL-URL:https://markhammasjid.ca
X-WR-CALDESC:Events for Islamic Society of Markham
REFRESH-INTERVAL;VALUE=DURATION:PT1H
X-Robots-Tag:noindex
X-PUBLISHED-TTL:PT1H
BEGIN:VTIMEZONE
TZID:America/Toronto
BEGIN:DAYLIGHT
TZOFFSETFROM:-0500
TZOFFSETTO:-0400
TZNAME:EDT
DTSTART:20250309T070000
END:DAYLIGHT
BEGIN:STANDARD
TZOFFSETFROM:-0400
TZOFFSETTO:-0500
TZNAME:EST
DTSTART:20251102T060000
END:STANDARD
END:VTIMEZONE
BEGIN:VEVENT
DTSTART;TZID=America/Toronto:20250920T100000
DTEND;TZID=America/Toronto:20250920T140000
DTSTAMP:20260420T181706
CREATED:20250825T182530Z
LAST-MODIFIED:20250826T152806Z
UID:709059-1758362400-1758376800@markhammasjid.ca
SUMMARY:Sisters Self-Defense Training Program
DESCRIPTION:Introducing ISM’s first self defense class!! This is a one day class which covers the basics .of self defense. Spots are limited make sure to register ASAP \nWho: Sisters ages 14+\nWhen: Saturday Sept 20\, 2025\, 10am-2pm\nWhere: ISM gymnasium\nCost: $40/person \nRegistration link: https://form.jotform.com/251828030891256 \n 
URL:https://markhammasjid.ca/event/sisters-self-defense-training-program/
LOCATION:Islamic Society of Markham
CATEGORIES:Ladies
ATTACH;FMTTYPE=image/jpeg:https://markhammasjid.ca/wp-content/uploads/2025/08/WhatsApp-Image-2025-08-18-at-8.45.24-PM.jpeg
END:VEVENT
END:VCALENDAR