BEGIN:VCALENDAR
VERSION:2.0
PRODID:-//Islamic Society of Markham - ECPv6.9.1//NONSGML v1.0//EN
CALSCALE:GREGORIAN
METHOD:PUBLISH
X-WR-CALNAME:Islamic Society of Markham
X-ORIGINAL-URL:https://markhammasjid.ca
X-WR-CALDESC:Events for Islamic Society of Markham
REFRESH-INTERVAL;VALUE=DURATION:PT1H
X-Robots-Tag:noindex
X-PUBLISHED-TTL:PT1H
BEGIN:VTIMEZONE
TZID:America/Toronto
BEGIN:DAYLIGHT
TZOFFSETFROM:-0500
TZOFFSETTO:-0400
TZNAME:EDT
DTSTART:20250309T070000
END:DAYLIGHT
BEGIN:STANDARD
TZOFFSETFROM:-0400
TZOFFSETTO:-0500
TZNAME:EST
DTSTART:20251102T060000
END:STANDARD
END:VTIMEZONE
BEGIN:VEVENT
DTSTART;TZID=America/Toronto:20250521T090000
DTEND;TZID=America/Toronto:20250521T110000
DTSTAMP:20260421T043310
CREATED:20250511T014629Z
LAST-MODIFIED:20250511T014629Z
UID:708916-1747818000-1747825200@markhammasjid.ca
SUMMARY:Sisters Walk & Talk Breakfast
DESCRIPTION:Sisters Walk & Talk Breakfast\nJoin us for a refreshing morning of connection\, reflection\, and community! \n🗓 Date: Wednesday\, May 21st🕘 Time: 9:00 AM – 11:00 AM💲 Fee: Only $10 \nTake a peaceful walk\, engage in meaningful conversations\, and enjoy a delicious breakfast with fellow sisters. It’s a perfect midweek boost for your mind\, body\, and soul! \nLimited spots available. Reserve yours now!Kindly e-transfer $10 to Pay@markhammasjid.ca➡️ Please mention your full name in the message section of your e-transfer. \nWe look forward to walking and talking with you\, inshaAllah!
URL:https://markhammasjid.ca/event/sisters-walk-talk-breakfast-2/
CATEGORIES:Ladies
ATTACH;FMTTYPE=image/jpeg:https://markhammasjid.ca/wp-content/uploads/2025/05/WhatsApp-Image-2025-05-05-at-10.40.00-PM.jpeg
END:VEVENT
END:VCALENDAR