BEGIN:VCALENDAR
VERSION:2.0
PRODID:-//Islamic Society of Markham - ECPv6.9.1//NONSGML v1.0//EN
CALSCALE:GREGORIAN
METHOD:PUBLISH
X-ORIGINAL-URL:https://markhammasjid.ca
X-WR-CALDESC:Events for Islamic Society of Markham
REFRESH-INTERVAL;VALUE=DURATION:PT1H
X-Robots-Tag:noindex
X-PUBLISHED-TTL:PT1H
BEGIN:VTIMEZONE
TZID:America/Toronto
BEGIN:DAYLIGHT
TZOFFSETFROM:-0500
TZOFFSETTO:-0400
TZNAME:EDT
DTSTART:20250309T070000
END:DAYLIGHT
BEGIN:STANDARD
TZOFFSETFROM:-0400
TZOFFSETTO:-0500
TZNAME:EST
DTSTART:20251102T060000
END:STANDARD
END:VTIMEZONE
BEGIN:VEVENT
DTSTART;TZID=America/Toronto:20250524T110000
DTEND;TZID=America/Toronto:20250524T133000
DTSTAMP:20260416T182143
CREATED:20250511T012352Z
LAST-MODIFIED:20250511T020909Z
UID:708910-1748084400-1748093400@markhammasjid.ca
SUMMARY:Passport to Hajj – Kids Event
DESCRIPTION:Passport to Hajj – Kids Event\nHosted by the ISM Sisters’ Committee  \nJoin us for a unique and educational event designed especially for children to experience the spirit and rituals of Hajj in a fun and interactive way. \nEvent Details:Date: Saturday\, May 24\, 2025Time: 11:00 AM – 1:30 PMLocation: Gym\, Islamic Society of MarkhamTickets: $5 per person \nThis event offers a meaningful opportunity for young minds to learn about the importance of Hajj in a memorable and enjoyable setting. Parents are encouraged to attend with their children and register early to secure their spots. \nRegister for the Event:Click here to register for Passport to Hajj 2025 \nRegister for the Hajj Model Contest:Click here to register for the Hajj Model Contest \nWe look forward to welcome you and your family!
URL:https://markhammasjid.ca/event/passport-to-hajj-a-special-kids-event/
LOCATION:Islamic Society of Markham
CATEGORIES:Ladies,Youth
ATTACH;FMTTYPE=image/jpeg:https://markhammasjid.ca/wp-content/uploads/2025/05/WhatsApp-Image-2025-05-10-at-8.12.45-PM-1.jpeg
END:VEVENT
END:VCALENDAR