BEGIN:VCALENDAR
VERSION:2.0
PRODID:-//Islamic Society of Markham - ECPv6.9.1//NONSGML v1.0//EN
CALSCALE:GREGORIAN
METHOD:PUBLISH
X-WR-CALNAME:Islamic Society of Markham
X-ORIGINAL-URL:https://markhammasjid.ca
X-WR-CALDESC:Events for Islamic Society of Markham
REFRESH-INTERVAL;VALUE=DURATION:PT1H
X-Robots-Tag:noindex
X-PUBLISHED-TTL:PT1H
BEGIN:VTIMEZONE
TZID:America/Toronto
BEGIN:DAYLIGHT
TZOFFSETFROM:-0500
TZOFFSETTO:-0400
TZNAME:EDT
DTSTART:20250309T070000
END:DAYLIGHT
BEGIN:STANDARD
TZOFFSETFROM:-0400
TZOFFSETTO:-0500
TZNAME:EST
DTSTART:20251102T060000
END:STANDARD
END:VTIMEZONE
BEGIN:VEVENT
DTSTART;TZID=America/Toronto:20250730T190000
DTEND;TZID=America/Toronto:20250730T210000
DTSTAMP:20260420T194213
CREATED:20250704T120147Z
LAST-MODIFIED:20250704T122330Z
UID:709001-1753902000-1753909200@markhammasjid.ca
SUMMARY:Annual Community Meeting 2025
DESCRIPTION:Assalamualaikum Warahmatullahe Wabarakatuh\, \nRespected Brothers & Sisters! \nYou’re invited to ISM’s Annual Community MeetingWednesday\, July 30\, 2025 | After Asr | ISM Gymnasium \nThis meeting will cover: \n\nFinancial Review of 2024\nKey Highlights\nQ&A Session\n\nLight refreshments will be served.Please register here: https://form.jotform.com/251821394973061 \nWe look forward to seeing you there. InshaAllah!
URL:https://markhammasjid.ca/event/annual-community-meeting-2025/
CATEGORIES:General,Ladies,Men's
ATTACH;FMTTYPE=image/jpeg:https://markhammasjid.ca/wp-content/uploads/2025/07/WhatsApp-Image-2025-07-03-at-11.45.52-AM.jpeg
END:VEVENT
END:VCALENDAR