BEGIN:VCALENDAR
VERSION:2.0
PRODID:-//Islamic Society of Markham - ECPv6.9.1//NONSGML v1.0//EN
CALSCALE:GREGORIAN
METHOD:PUBLISH
X-ORIGINAL-URL:https://markhammasjid.ca
X-WR-CALDESC:Events for Islamic Society of Markham
REFRESH-INTERVAL;VALUE=DURATION:PT1H
X-Robots-Tag:noindex
X-PUBLISHED-TTL:PT1H
BEGIN:VTIMEZONE
TZID:America/Toronto
BEGIN:DAYLIGHT
TZOFFSETFROM:-0500
TZOFFSETTO:-0400
TZNAME:EDT
DTSTART:20250309T070000
END:DAYLIGHT
BEGIN:STANDARD
TZOFFSETFROM:-0400
TZOFFSETTO:-0500
TZNAME:EST
DTSTART:20251102T060000
END:STANDARD
END:VTIMEZONE
BEGIN:VEVENT
DTSTART;TZID=America/Toronto:20251220T121500
DTEND;TZID=America/Toronto:20251220T133000
DTSTAMP:20260420T140150
CREATED:20251210T010118Z
LAST-MODIFIED:20251210T010525Z
UID:710659-1766232900-1766237400@markhammasjid.ca
SUMMARY:Ladies Only: MCC Volleyball
DESCRIPTION:🏐 Girls-Only Volleyball – Winter Season 2025\n📅 Dec 20 – Feb 14 (8 sessions)\n⏰ Saturdays – 60 min session\n📍 ISM Gym – 2900 Denison St\nAges 10–15 \n💲 Only $80 (discounted)\n✨ Beginner-friendly coaching\n✨ Fitness\, confidence\, teamwork\n✨ Supportive Islamic environment \n📩 Register now – limited spots! \n 
URL:https://markhammasjid.ca/event/ladies-only-volleyball/
LOCATION:Islamic Society of Markham
CATEGORIES:Ladies
ATTACH;FMTTYPE=image/jpeg:https://markhammasjid.ca/wp-content/uploads/2025/12/WhatsApp-Image-2025-12-05-at-11.31.50-PM.jpeg
END:VEVENT
END:VCALENDAR