BEGIN:VCALENDAR
VERSION:2.0
PRODID:-//Islamic Society of Markham - ECPv6.9.1//NONSGML v1.0//EN
CALSCALE:GREGORIAN
METHOD:PUBLISH
X-ORIGINAL-URL:https://markhammasjid.ca
X-WR-CALDESC:Events for Islamic Society of Markham
REFRESH-INTERVAL;VALUE=DURATION:PT1H
X-Robots-Tag:noindex
X-PUBLISHED-TTL:PT1H
BEGIN:VTIMEZONE
TZID:America/Toronto
BEGIN:DAYLIGHT
TZOFFSETFROM:-0500
TZOFFSETTO:-0400
TZNAME:EDT
DTSTART:20260308T070000
END:DAYLIGHT
BEGIN:STANDARD
TZOFFSETFROM:-0400
TZOFFSETTO:-0500
TZNAME:EST
DTSTART:20261101T060000
END:STANDARD
END:VTIMEZONE
BEGIN:VEVENT
DTSTART;TZID=America/Toronto:20260425T140000
DTEND;TZID=America/Toronto:20260731T150000
DTSTAMP:20260425T195310
CREATED:20260419T194701Z
LAST-MODIFIED:20260425T195035Z
UID:710859-1777125600-1785510000@markhammasjid.ca
SUMMARY:ISM 1st Scout Registration
DESCRIPTION:As-salamu alaykum\, \nAlhamdulillah\, 1st ISM Scouts Program is now open for ages 5–14 (Beavers\, Cubs\, Scouts). \n👉 Registration \n👉 Join WhatsApp \n📅 Parent Info Session: April 25\, 2026\n⏰ 2:00–3:30 PM | 📍 ISM Gym \nA great opportunity for kids to build leadership\, teamwork\, and Islamic values.
URL:https://markhammasjid.ca/event/ism-1st-scout-registration/
LOCATION:Islamic Society of Markham
CATEGORIES:Youth
ATTACH;FMTTYPE=image/jpeg:https://markhammasjid.ca/wp-content/uploads/2026/04/ISM-Scouts-April-25.jpeg
END:VEVENT
BEGIN:VEVENT
DTSTART;TZID=America/Toronto:20260428T090000
DTEND;TZID=America/Toronto:20260428T110000
DTSTAMP:20260425T195310
CREATED:20260425T194539Z
LAST-MODIFIED:20260425T194539Z
UID:710872-1777366800-1777374000@markhammasjid.ca
SUMMARY:Sisters Eid Walk & Talk Breakfast
DESCRIPTION:Eid Walk&Talk breakfast\nDate: Tuesday April 28.\nTime: 9 am to 11am\nKindly reserve your spot by paying at\nPay@markhammasjid.ca
URL:https://markhammasjid.ca/event/sisters-eid-walk-talk-breakfast/
CATEGORIES:Ladies
ATTACH;FMTTYPE=image/jpeg:https://markhammasjid.ca/wp-content/uploads/2026/04/WhatsApp-Image-2026-04-21-at-2.50.50-PM.jpeg
END:VEVENT
END:VCALENDAR